BEGIN:VCALENDAR
VERSION:2.0
PRODID:-//jEvents 2.0 for Joomla//EN
CALSCALE:GREGORIAN
METHOD:PUBLISH
BEGIN:VTIMEZONE
TZID:America/New_York
BEGIN:STANDARD
DTSTART:20241103T010000
RDATE:20250309T030000
TZOFFSETFROM:-0400
TZOFFSETTO:-0500
TZNAME:America/New_York EST
END:STANDARD
BEGIN:STANDARD
DTSTART:20251102T010000
RDATE:20260308T030000
TZOFFSETFROM:-0400
TZOFFSETTO:-0500
TZNAME:America/New_York EST
END:STANDARD
BEGIN:STANDARD
DTSTART:20261101T010000
RDATE:20270314T030000
TZOFFSETFROM:-0400
TZOFFSETTO:-0500
TZNAME:America/New_York EST
END:STANDARD
BEGIN:STANDARD
DTSTART:20271107T010000
RDATE:20280312T030000
TZOFFSETFROM:-0400
TZOFFSETTO:-0500
TZNAME:America/New_York EST
END:STANDARD
BEGIN:DAYLIGHT
DTSTART:20241024T000000
RDATE:20241103T010000
TZOFFSETFROM:-0500
TZOFFSETTO:-0400
TZNAME:America/New_York EDT
END:DAYLIGHT
BEGIN:DAYLIGHT
DTSTART:20250309T030000
RDATE:20251102T010000
TZOFFSETFROM:-0500
TZOFFSETTO:-0400
TZNAME:America/New_York EDT
END:DAYLIGHT
BEGIN:DAYLIGHT
DTSTART:20260308T030000
RDATE:20261101T010000
TZOFFSETFROM:-0500
TZOFFSETTO:-0400
TZNAME:America/New_York EDT
END:DAYLIGHT
BEGIN:DAYLIGHT
DTSTART:20270314T030000
RDATE:20271107T010000
TZOFFSETFROM:-0500
TZOFFSETTO:-0400
TZNAME:America/New_York EDT
END:DAYLIGHT
END:VTIMEZONE
BEGIN:VEVENT
UID:7g3lp0emrp09mf7sseoe26e43m@google.com
CATEGORIES:ACCMBC
CREATED:20250721T010037
SUMMARY:Baptism @ Mansfield OH
DESCRIPTION;ENCODING=QUOTED-PRINTABLE:Saturday Testimonies: <br/>2:00pm - Medina converts: Evan Milosevic, Brenna
 n Milosevic, Aviana Milosevic, Nolan Milosevic, Lexi Demiter, Tessa Demiter
 , Mahala Oldja; <br/>5:30pm light dinner;  <br/>7:00pm - Mansfield converts
 :  Jacob Moore, Finn Getz, Miles Getz;  <br/><br/>Sunday:<br/>Bible Class 9
 :30am; <br/>Baptism service 10:15am;  <br/>Lunch; <br/>Laying on of hands s
 ervice 1:30pm;  <br/>Song service at Fellowship Hall 7:00pm
DTSTAMP:20260424T101355Z
DTSTART;TZID=America/New_York;VALUE=DATE:20251025
DTEND;TZID=America/New_York;VALUE=DATE:20251027
SEQUENCE:0
TRANSP:OPAQUE
END:VEVENT
END:VCALENDAR