BEGIN:VCALENDAR
VERSION:2.0
PRODID:-//jEvents 2.0 for Joomla//EN
CALSCALE:GREGORIAN
METHOD:PUBLISH
BEGIN:VTIMEZONE
TZID:America/New_York
BEGIN:STANDARD
DTSTART:20250306T000000
RDATE:20250309T030000
TZOFFSETFROM:-0400
TZOFFSETTO:-0500
TZNAME:America/New_York EST
END:STANDARD
BEGIN:STANDARD
DTSTART:20251102T010000
RDATE:20260308T030000
TZOFFSETFROM:-0400
TZOFFSETTO:-0500
TZNAME:America/New_York EST
END:STANDARD
BEGIN:STANDARD
DTSTART:20261101T010000
RDATE:20270314T030000
TZOFFSETFROM:-0400
TZOFFSETTO:-0500
TZNAME:America/New_York EST
END:STANDARD
BEGIN:STANDARD
DTSTART:20271107T010000
RDATE:20280312T030000
TZOFFSETFROM:-0400
TZOFFSETTO:-0500
TZNAME:America/New_York EST
END:STANDARD
BEGIN:DAYLIGHT
DTSTART:20250309T030000
RDATE:20251102T010000
TZOFFSETFROM:-0500
TZOFFSETTO:-0400
TZNAME:America/New_York EDT
END:DAYLIGHT
BEGIN:DAYLIGHT
DTSTART:20260308T030000
RDATE:20261101T010000
TZOFFSETFROM:-0500
TZOFFSETTO:-0400
TZNAME:America/New_York EDT
END:DAYLIGHT
BEGIN:DAYLIGHT
DTSTART:20270314T030000
RDATE:20271107T010000
TZOFFSETFROM:-0500
TZOFFSETTO:-0400
TZNAME:America/New_York EDT
END:DAYLIGHT
END:VTIMEZONE
BEGIN:VEVENT
UID:5dlsulbls4dvbplo9e2tl2ksid@google.com
CATEGORIES:ACCMBC
CREATED:20251123T230014
SUMMARY:Baptism @ West Akron OH
DESCRIPTION;ENCODING=QUOTED-PRINTABLE:<em>Converts:  Vitalii Yakobets Jr, Timothy Piticaru, Allison Tomic,</em><e
 m>Joanna Botosan, Joshua Botosan, </em><em>Jalyn Botosan</em><br><br>Saturd
 ay Testimonies @ 2:00pm; after 3 testimonies there will be a 1-hour break
DTSTAMP:20260422T223834Z
DTSTART;TZID=America/New_York;VALUE=DATE:20260307
DTEND;TZID=America/New_York;VALUE=DATE:20260309
SEQUENCE:0
TRANSP:OPAQUE
END:VEVENT
END:VCALENDAR