BEGIN:VCALENDAR
VERSION:2.0
PRODID:-//jEvents 2.0 for Joomla//EN
CALSCALE:GREGORIAN
METHOD:PUBLISH
BEGIN:VTIMEZONE
TZID:America/New_York
BEGIN:STANDARD
DTSTART:20251102T010000
RDATE:20260308T030000
TZOFFSETFROM:-0400
TZOFFSETTO:-0500
TZNAME:America/New_York EST
END:STANDARD
BEGIN:STANDARD
DTSTART:20261101T010000
RDATE:20270314T030000
TZOFFSETFROM:-0400
TZOFFSETTO:-0500
TZNAME:America/New_York EST
END:STANDARD
BEGIN:STANDARD
DTSTART:20271107T010000
RDATE:20280312T030000
TZOFFSETFROM:-0400
TZOFFSETTO:-0500
TZNAME:America/New_York EST
END:STANDARD
BEGIN:DAYLIGHT
DTSTART:20250424T083000
RDATE:20251102T010000
TZOFFSETFROM:-0500
TZOFFSETTO:-0400
TZNAME:America/New_York EDT
END:DAYLIGHT
BEGIN:DAYLIGHT
DTSTART:20260308T030000
RDATE:20261101T010000
TZOFFSETFROM:-0500
TZOFFSETTO:-0400
TZNAME:America/New_York EDT
END:DAYLIGHT
BEGIN:DAYLIGHT
DTSTART:20270314T030000
RDATE:20271107T010000
TZOFFSETFROM:-0500
TZOFFSETTO:-0400
TZNAME:America/New_York EDT
END:DAYLIGHT
END:VTIMEZONE
BEGIN:VEVENT
UID:188ifdtahv2n4frk5vkkhpe8l9@google.com
CATEGORIES:ACCMBC
CREATED:20260315T230033
SUMMARY:ACCF Annual Meeting and Conference @ Norton
DESCRIPTION;ENCODING=QUOTED-PRINTABLE:<span><span>Join us for the ACCF Annual Meeting and Conference. Registratio
 n and coffee begin at 8:30am, followed by the business meeting from 9–10:15
 am. The conference starts at 10:30am with the theme &quot;Be A Peacemaker,&
 quot; exploring biblical perspectives on peacemaking in various aspects of 
 life. Lunch is provided. All are welcome.</span></span><br><span><span> </s
 pan></span><br><span><span>To register, use this link: </span></span><a hre
 f="https://www.google.com/url?q=https://onrealm.org/accfoundation/PublicReg
 istrations/Event?linkString%3DY2IyZGM0YjgtMmQ2Yi00YmIzLWJkYjctYjNlZjAxMmZiO
 WFl&amp;sa=D&amp;source=calendar&amp;usd=2&amp;usg=AOvVaw2ZQWBQiTFLJOZ8pyBg
 _l6E" target="_blank">https://onrealm.org/accfoundation/PublicRegistrations
 /Event?linkString=Y2IyZGM0YjgtMmQ2Yi00YmIzLWJkYjctYjNlZjAxMmZiOWFl</a><br> 
 <br>To access the flyer, use this link:  <span><a href="https://www.google.
 com/url?q=https://drive.google.com/file/d/1BVxrW8zWuOj2TC80i0x2yEkpTOwogOLx
 /view?usp%3Dsharing&amp;sa=D&amp;source=calendar&amp;usd=2&amp;usg=AOvVaw33
 9jD6w1O7cesgH2NNrjaz" target="_blank">https://drive.google.com/file/d/1BVxr
 W8zWuOj2TC80i0x2yEkpTOwogOLx/view?usp=sharing</a></span>
DTSTAMP:20260422T172050Z
DTSTART;TZID=America/New_York:20260425T083000
DTEND;TZID=America/New_York:20260425T153000
SEQUENCE:0
TRANSP:OPAQUE
END:VEVENT
END:VCALENDAR